BEGIN:VCALENDAR
PRODID:-//AT Content Types//AT Event//EN
VERSION:2.0
METHOD:PUBLISH
BEGIN:VEVENT
DTSTAMP:20260424T074713Z
CREATED:20230815T144057Z
UID:ATEvent-78c279f41caa4c9693e6909a5354e035
LAST-MODIFIED:20230831T150539Z
SUMMARY:Face-to-face event\, Christ Church\, Coombe Road\, New Malden
DTSTART:20230822T123000Z
DTEND:20230822T143000Z
DESCRIPTION:Face-to-face event\, Christ Church\, Coombe Road\, New Mal
 den
CLASS:PUBLIC
END:VEVENT
END:VCALENDAR
