BEGIN:VCALENDAR
PRODID:-//AT Content Types//AT Event//EN
VERSION:2.0
METHOD:PUBLISH
BEGIN:VEVENT
DTSTAMP:20260424T074614Z
CREATED:20230815T144058Z
UID:ATEvent-b5c7c534602a4c80bad4aa9976c91e47
LAST-MODIFIED:20230831T150539Z
SUMMARY:Face-to-face event\, Hook Centre\, Chessington
DTSTART:20230829T123000Z
DTEND:20230829T143000Z
DESCRIPTION:Face-to-face event\, Hook Centre\, Chessington
CLASS:PUBLIC
END:VEVENT
END:VCALENDAR
