BEGIN:VCALENDAR
PRODID:-//AT Content Types//AT Event//EN
VERSION:2.0
METHOD:PUBLISH
BEGIN:VEVENT
DTSTAMP:20260424T074620Z
CREATED:20230815T144057Z
UID:ATEvent-52c9c2d3248a48c187c8bcc83d1f3ea0
LAST-MODIFIED:20230831T150539Z
SUMMARY:Face-to-face event\, Richard Mayo Centre\, Kingston
DTSTART:20230905T170000Z
DTEND:20230905T190000Z
DESCRIPTION:Face-to-face event\, Richard Mayo Centre\, Kingston
CLASS:PUBLIC
END:VEVENT
END:VCALENDAR
