BEGIN:VCALENDAR
PRODID:-//AT Content Types//AT Event//EN
VERSION:2.0
METHOD:PUBLISH
BEGIN:VEVENT
DTSTAMP:20260424T074626Z
CREATED:20230815T144058Z
UID:ATEvent-5fb7ee669ef94f33bc0b035eb5516f3b
LAST-MODIFIED:20230831T150539Z
SUMMARY:Face-to-face event\, Surbiton Library Annexe
DTSTART:20230717T130000Z
DTEND:20230717T150000Z
DESCRIPTION:Face-to-face event\, Surbiton Library Annexe (Building to 
 the right of the library\, behind the war memorial)\, Surbiton
CLASS:PUBLIC
END:VEVENT
END:VCALENDAR
