BEGIN:VCALENDAR
PRODID:-//AT Content Types//AT Event//EN
VERSION:2.0
METHOD:PUBLISH
BEGIN:VEVENT
DTSTAMP:20260424T074719Z
CREATED:20230815T144057Z
UID:ATEvent-47fd51c5365f40a597098ff73ea5bd0f
LAST-MODIFIED:20230831T150539Z
SUMMARY:Session for individuals and families of those with Learning Disabilities at Surbiton Library Annexe
DTSTART:20230719T133000Z
DTEND:20230719T153000Z
DESCRIPTION:Session for individuals and families of those with Learnin
 g Disabilities at Surbiton Library Annexe\, Surbiton
CLASS:PUBLIC
END:VEVENT
END:VCALENDAR
