BEGIN:VCALENDAR
PRODID:-//AT Content Types//AT Event//EN
VERSION:2.0
METHOD:PUBLISH
BEGIN:VEVENT
DTSTAMP:20260424T074614Z
CREATED:20230908T100252Z
UID:ATEvent-79a3e3f9e94e418485e788a18a99fdfd
LAST-MODIFIED:20231214T224622Z
SUMMARY:Kingston Society public meeting
DTSTART:20230920T183000Z
DTEND:20230920T200000Z
DESCRIPTION:At the Judge Lecture Theatre\, Tiffin School\, Kingston up
 on Thames KT2 6RL.
CLASS:PUBLIC
END:VEVENT
END:VCALENDAR
