BEGIN:VCALENDAR
PRODID:-//AT Content Types//AT Event//EN
VERSION:2.0
METHOD:PUBLISH
BEGIN:VEVENT
DTSTAMP:20260424T074626Z
CREATED:20230901T092814Z
UID:ATEvent-00b45ee39b8b4f1bb7c86bf1cd36acf8
LAST-MODIFIED:20240219T105551Z
SUMMARY:Berrylands Healthy Streets drop in session
DTSTART:20230926T180000Z
DTEND:20230926T200000Z
DESCRIPTION:Drop in opportunity to talk to the team in person and ask 
 any questions.\nLocation: Tolworth Emmanuel Church of England\, 1 Gran
 d Avenue\, (opposite the top entrance to Grand Avenue School)
CLASS:PUBLIC
END:VEVENT
END:VCALENDAR
